BEGIN:VCALENDAR
VERSION:2.0
PRODID:-//ChamberMaster//Event Calendar 2.0//EN
METHOD:PUBLISH
X-PUBLISHED-TTL:P1H
REFRESH-INTERVAL:P1H
CALSCALE:GREGORIAN
BEGIN:VTIMEZONE
TZID:America/Los_Angeles
BEGIN:DAYLIGHT
RRULE:FREQ=YEARLY;BYMONTH=3;BYDAY=2SU
DTSTART:20070101T000000
TZOFFSETFROM:-0800
TZOFFSETTO:-0700
TZNAME:Pacific Daylight Time
END:DAYLIGHT
BEGIN:STANDARD
RRULE:FREQ=YEARLY;BYMONTH=11;BYDAY=1SU
DTSTART:20070101T000000
TZOFFSETFROM:-0700
TZOFFSETTO:-0800
TZNAME:Pacific Standard Time
END:STANDARD
END:VTIMEZONE
BEGIN:VEVENT
DTSTART;TZID=America/Los_Angeles:20260501T190000
DTEND;TZID=America/Los_Angeles:20260501T210000
X-MICROSOFT-CDO-ALLDAYEVENT:FALSE
SUMMARY:Movie in the Vines by Oak Mountain Winery
DESCRIPTION:Join us Friday\, May 1st for another Movie in the Vines at The Cave at Oak Mountain Winery. Enjoy cozy vibes\, great wine\, and a tiny hero on the big screen. Bring your family\, your blankets\, and grab a spot on our Lawn at 6:00pm. Movie starts when it gets dark.  \n\nNo outside food or drinks. \n\nRSVP by calling 951-699-9102 or emailing info@oakmountainwinery.com.
X-ALT-DESC;FMTTYPE=text/html:Join us Friday\, May 1st for another Movie in the Vines at The Cave at Oak Mountain Winery. Enjoy cozy vibes\, great wine\, and a tiny hero on the big screen. Bring your family\, your blankets\, and grab a spot on our Lawn at 6:00pm. Movie starts when it gets dark.  \n\nNo outside food or drinks. \n\nRSVP by calling 951-699-9102 or emailing info@oakmountainwinery.com.
LOCATION:36522 Via Verde Temecula CA 92592-
UID:e.1427.1446448
SEQUENCE:3
DTSTAMP:20260424T153703Z
URL:https://temeculavalleymodules.growthzoneapp.com/eventcalendar/Details/movie-in-the-vines-by-oak-mountain-winery-1713180?sourceTypeId=Hub
END:VEVENT
END:VCALENDAR
