BEGIN:VCALENDAR
VERSION:2.0
PRODID:-//ChamberMaster//Event Calendar 2.0//EN
METHOD:PUBLISH
X-PUBLISHED-TTL:P1H
REFRESH-INTERVAL:P1H
CALSCALE:GREGORIAN
BEGIN:VTIMEZONE
TZID:America/Los_Angeles
BEGIN:DAYLIGHT
RRULE:FREQ=YEARLY;BYMONTH=3;BYDAY=2SU
DTSTART:20070101T000000
TZOFFSETFROM:-0800
TZOFFSETTO:-0700
TZNAME:Pacific Daylight Time
END:DAYLIGHT
BEGIN:STANDARD
RRULE:FREQ=YEARLY;BYMONTH=11;BYDAY=1SU
DTSTART:20070101T000000
TZOFFSETFROM:-0700
TZOFFSETTO:-0800
TZNAME:Pacific Standard Time
END:STANDARD
END:VTIMEZONE
BEGIN:VEVENT
DTSTART;TZID=America/Los_Angeles:20260508T200000
DTEND;TZID=America/Los_Angeles:20260508T220000
X-MICROSOFT-CDO-ALLDAYEVENT:FALSE
SUMMARY:Jokes at the Oaks Comedy Night
DESCRIPTION:Our comedy night is back! Join us Friday\, May 8th @ 8pm for Jokes at the Oaks featuring Johnny Herrera\, Mike Cano\, Roberto Rodriguez\, & friends. Get ready for a night full of laughs\, wine\, and good vibes.\n\nRSVPs preferred - spots go fast! Reserve now on Eventbrite\, by calling us at 951-699-9102\, or by emailing info@oakmountainwinery.com.\n\n2 drink minimum (easy choice!)\nFREE entry | 21+ only\nDoors open at 6:00pm - Come early for dinner & drinks!
X-ALT-DESC;FMTTYPE=text/html:Our comedy night is back! Join us Friday\, May 8th @ 8pm for Jokes at the Oaks featuring Johnny Herrera\, Mike Cano\, Roberto Rodriguez\, & friends. Get ready for a night full of laughs\, wine\, and good vibes.\n\nRSVPs preferred - spots go fast! Reserve now on Eventbrite\, by calling us at 951-699-9102\, or by emailing info@oakmountainwinery.com.\n\n2 drink minimum (easy choice!)\nFREE entry | 21+ only\nDoors open at 6:00pm - Come early for dinner & drinks!
LOCATION:36522 Via Verde Temecula CA 92592-
UID:e.1427.1446530
SEQUENCE:3
DTSTAMP:20260424T153624Z
URL:https://temeculavalleymodules.growthzoneapp.com/eventcalendar/Details/jokes-at-the-oaks-comedy-night-1713279?sourceTypeId=Hub
END:VEVENT
END:VCALENDAR
