BEGIN:VCALENDAR
VERSION:2.0
PRODID:-//ChamberMaster//Event Calendar 2.0//EN
METHOD:PUBLISH
X-PUBLISHED-TTL:P1H
REFRESH-INTERVAL:P1H
CALSCALE:GREGORIAN
BEGIN:VTIMEZONE
TZID:America/Los_Angeles
BEGIN:DAYLIGHT
RRULE:FREQ=YEARLY;BYMONTH=3;BYDAY=2SU
DTSTART:20070101T000000
TZOFFSETFROM:-0800
TZOFFSETTO:-0700
TZNAME:Pacific Daylight Time
END:DAYLIGHT
BEGIN:STANDARD
RRULE:FREQ=YEARLY;BYMONTH=11;BYDAY=1SU
DTSTART:20070101T000000
TZOFFSETFROM:-0700
TZOFFSETTO:-0800
TZNAME:Pacific Standard Time
END:STANDARD
END:VTIMEZONE
BEGIN:VEVENT
DTSTART;TZID=America/Los_Angeles:20260603T130000
DTEND;TZID=America/Los_Angeles:20260603T133000
X-MICROSOFT-CDO-ALLDAYEVENT:FALSE
SUMMARY:Ribbon Cutting – Mastery of Hair by Rosey
DESCRIPTION:Join the Temecula Valley Chamber of Commerce in celebrating Mastery of Hair by Rosey with an official ribbon cutting! This special event marks the grand opening and expansion of a refined\, private studio dedicated to advanced hair solutions. With over 28 years of experience in the industry\, Rosey has created a space where expertise meets innovation offering specialized services in advanced hair extensions and non-surgical hair restoration. Mastery of Hair is not a traditional salon\, but a luxury studio focused on personalized\, results-driven transformations for clients experiencing thinning hair\, hair loss\, or seeking premium\, natural-looking extensions. This milestone reflects the continued evolution of the brand as a trusted destination for high-level hair care solutions. Guests are invited to tour the studio\, meet the owner\, and learn more about the services offered while connecting with fellow Chamber members and the community. Refreshments will be provided. We look forward to celebrating this exciting milestone with you!
X-ALT-DESC;FMTTYPE=text/html:<!DOCTYPE html><html><head><title></title></head><body aria-disabled="false"><p><strong fr-original-style="" style="font-weight: 700\;">Join the Temecula Valley Chamber of Commerce in celebrating Mastery of Hair by Rosey with an official ribbon cutting! </strong></p><p>This special event marks the grand opening and expansion of a refined\, private studio dedicated to advanced hair solutions. With over 28 years of experience in the industry\, Rosey has created a space where expertise meets innovation&mdash\;offering specialized services in advanced hair extensions and non-surgical hair restoration.&nbsp\;</p><p>Mastery of Hair is not a traditional salon\, but a luxury studio focused on personalized\, results-driven transformations for clients experiencing thinning hair\, hair loss\, or seeking premium\, natural-looking extensions. This milestone reflects the continued evolution of the brand as a trusted destination for high-level hair care solutions.&nbsp\;</p><p>Guests are invited to tour the studio\, meet the owner\, and learn more about the services offered while connecting with fellow Chamber members and the community. Refreshments will be provided.&nbsp\;</p><p>We look forward to celebrating this exciting milestone with you!</p></body></html>
LOCATION:31285 Temecula Pkwy\, STE 225 Temecula CA 92592
UID:e.1427.1449301
SEQUENCE:3
DTSTAMP:20260424T153713Z
URL:https://temeculavalleymodules.growthzoneapp.com/eventcalendar/Details/ribbon-cutting-mastery-of-hair-by-rosey-1716702?sourceTypeId=Hub
END:VEVENT
END:VCALENDAR
