BEGIN:VCALENDAR
VERSION:2.0
PRODID:-//ChamberMaster//Event Calendar 2.0//EN
METHOD:PUBLISH
X-PUBLISHED-TTL:P1H
REFRESH-INTERVAL:P1H
CALSCALE:GREGORIAN
BEGIN:VTIMEZONE
TZID:America/Los_Angeles
BEGIN:DAYLIGHT
RRULE:FREQ=YEARLY;BYMONTH=3;BYDAY=2SU
DTSTART:20070101T000000
TZOFFSETFROM:-0800
TZOFFSETTO:-0700
TZNAME:Pacific Daylight Time
END:DAYLIGHT
BEGIN:STANDARD
RRULE:FREQ=YEARLY;BYMONTH=11;BYDAY=1SU
DTSTART:20070101T000000
TZOFFSETFROM:-0700
TZOFFSETTO:-0800
TZNAME:Pacific Standard Time
END:STANDARD
END:VTIMEZONE
BEGIN:VEVENT
DTSTART;TZID=America/Los_Angeles:20260510T100000
DTEND;TZID=America/Los_Angeles:20260510T150000
X-MICROSOFT-CDO-ALLDAYEVENT:FALSE
SUMMARY:Mother's Day Brunch Buffet by Oak Mountain Winery
DESCRIPTION:Give your mom the gift of bottomless brunch and 2 hours of bottomless mimosas at our Mother's Day Tea Party Brunch. Join us in the Vine Terrace on Sunday\, May 10th from 10am-3pm for delicious food\, great wine\, and unforgettable memories. \n\nReservations required. Call us at 951-699-9102\, email info@oakmountainwinery.com\, or make your reservation directly on OpenTable.
X-ALT-DESC;FMTTYPE=text/html:Give your mom the gift of bottomless brunch and 2 hours of bottomless mimosas at our Mother's Day Tea Party Brunch. Join us in the Vine Terrace on Sunday\, May 10th from 10am-3pm for delicious food\, great wine\, and unforgettable memories. \n\nReservations required. Call us at 951-699-9102\, email info@oakmountainwinery.com\, or make your reservation directly on OpenTable.
LOCATION:36522 Via Verde Temecula CA 92592-
UID:e.1427.1446537
SEQUENCE:3
DTSTAMP:20260424T153704Z
URL:https://temeculavalleymodules.growthzoneapp.com/eventcalendar/Details/mother-s-day-brunch-buffet-by-oak-mountain-winery-1713286?sourceTypeId=Hub
END:VEVENT
END:VCALENDAR
