BEGIN:VCALENDAR
VERSION:2.0
PRODID:-//ChamberMaster//Event Calendar 2.0//EN
METHOD:PUBLISH
X-PUBLISHED-TTL:P1H
REFRESH-INTERVAL:P1H
CALSCALE:GREGORIAN
BEGIN:VTIMEZONE
TZID:America/Los_Angeles
BEGIN:DAYLIGHT
RRULE:FREQ=YEARLY;BYMONTH=3;BYDAY=2SU
DTSTART:20070101T000000
TZOFFSETFROM:-0800
TZOFFSETTO:-0700
TZNAME:Pacific Daylight Time
END:DAYLIGHT
BEGIN:STANDARD
RRULE:FREQ=YEARLY;BYMONTH=11;BYDAY=1SU
DTSTART:20070101T000000
TZOFFSETFROM:-0700
TZOFFSETTO:-0800
TZNAME:Pacific Standard Time
END:STANDARD
END:VTIMEZONE
BEGIN:VEVENT
DTSTART;TZID=America/Los_Angeles:20260503T110000
DTEND;TZID=America/Los_Angeles:20260503T200000
X-MICROSOFT-CDO-ALLDAYEVENT:FALSE
SUMMARY:Cinco de Mayo with Oak Mountain Winery
DESCRIPTION:Celebrate Cinco de Mayo all day with Oak Mountain Winery on Sunday\, May 3rd! Join us from 11:00am - 3:00pm for our day market featuring a number of local vendors. Watch the ballet folklorico dancers and get your own boogie on at our Latin Fusion Dance Party ft. DJ Rick.
X-ALT-DESC;FMTTYPE=text/html:Celebrate Cinco de Mayo all day with Oak Mountain Winery on Sunday\, May 3rd! Join us from 11:00am - 3:00pm for our day market featuring a number of local vendors. Watch the ballet folklorico dancers and get your own boogie on at our Latin Fusion Dance Party ft. DJ Rick.
LOCATION:36522 Via Verde Temecula CA 92592-
UID:e.1427.1446469
SEQUENCE:3
DTSTAMP:20260424T153626Z
URL:https://temeculavalleymodules.growthzoneapp.com/eventcalendar/Details/cinco-de-mayo-with-oak-mountain-winery-1713199?sourceTypeId=Hub
END:VEVENT
END:VCALENDAR
