BEGIN:VCALENDAR
VERSION:2.0
PRODID:-//ChamberMaster//Event Calendar 2.0//EN
METHOD:PUBLISH
X-PUBLISHED-TTL:P1H
REFRESH-INTERVAL:P1H
CALSCALE:GREGORIAN
BEGIN:VTIMEZONE
TZID:America/Los_Angeles
BEGIN:DAYLIGHT
RRULE:FREQ=YEARLY;BYMONTH=3;BYDAY=2SU
DTSTART:20070101T000000
TZOFFSETFROM:-0800
TZOFFSETTO:-0700
TZNAME:Pacific Daylight Time
END:DAYLIGHT
BEGIN:STANDARD
RRULE:FREQ=YEARLY;BYMONTH=11;BYDAY=1SU
DTSTART:20070101T000000
TZOFFSETFROM:-0700
TZOFFSETTO:-0800
TZNAME:Pacific Standard Time
END:STANDARD
END:VTIMEZONE
BEGIN:VEVENT
DTSTART;TZID=America/Los_Angeles:20260517T110000
DTEND;TZID=America/Los_Angeles:20260517T200000
X-MICROSOFT-CDO-ALLDAYEVENT:FALSE
SUMMARY:All White 3 Year Anniversary Party by Oak Mountain Winery
DESCRIPTION:Wear your best all white outfit and help us celebrate 3 years of new ownership at Oak Mountain Winery! Enjoy live music\, great food\, and unbeatable drinks from 11am-8pm Sunday\, May 17th.
X-ALT-DESC;FMTTYPE=text/html:Wear your best all white outfit and help us celebrate 3 years of new ownership at Oak Mountain Winery! Enjoy live music\, great food\, and unbeatable drinks from 11am-8pm Sunday\, May 17th.
LOCATION:36522 Via Verde Temecula CA 92592-
UID:e.1427.1446512
SEQUENCE:3
DTSTAMP:20260424T153703Z
URL:https://temeculavalleymodules.growthzoneapp.com/eventcalendar/Details/all-white-3-year-anniversary-party-by-oak-mountain-winery-1713240?sourceTypeId=Hub
END:VEVENT
END:VCALENDAR
